BEGIN:VCALENDAR
PRODID:-//AT Content Types//AT Event//EN
VERSION:2.0
METHOD:PUBLISH
BEGIN:VEVENT
DTSTAMP:20260423T224623Z
CREATED:20190401T111631Z
UID:ATEvent-92d620d877ec48a0ac27ab6387ce6743
LAST-MODIFIED:20190401T111715Z
SUMMARY:Stakeholder webinar
DTSTART:20190410T080000Z
DTEND:20190410T093000Z
DESCRIPTION:The Nordic TSOs invite stakeholders to a webinar regarding
  the Nordic TSOs’ proposal for FRR dimensioning rules. The purpose o
 f the webinar is to further clarify the proposal and to discuss the fu
 rther development of FRR dimensioning methodology.\n\nDate: Wednesday 
 10 April\nTime: 10:00 – 11:30h CET\n\nThe meeting will be held in En
 glish. Registration is done by sending an e-mail to  Hanne.Finstad@sta
 tnett.no.
CLASS:PUBLIC
END:VEVENT
END:VCALENDAR
