BEGIN:VCALENDAR
PRODID:-//AT Content Types//AT Event//EN
VERSION:2.0
METHOD:PUBLISH
BEGIN:VEVENT
DTSTAMP:20260419T195220Z
CREATED:20160502T143614Z
UID:ATEvent-d1103621f749c1b67cabfd30845fada0
LAST-MODIFIED:20160920T105401Z
SUMMARY:Public Webinar: Let’s develop together the future scenarios
DTSTART:20161010T083000Z
DTEND:20161010T110000Z
DESCRIPTION:Participate on 10 October (10:30 – 13:00 CET) at the ENT
 SOs public webinar. This 2.5h public webinar aims at: \n-	explaining h
 ow the previous feedback from  stakeholders and member states were con
 sidered\n-	presenting the chosen TYNDP 2018 scenarios \n-	gathering ad
 ditional feedback directly in the webinar\n-	explaining the next steps
  in the scenario development\nIn order to participate to the webinar o
 ne shall register at the following link https://attendee.gotowebinar.c
 om/register/4299576825847841794  no later than 9 October. After regist
 ering\, the participant will receive a confirmation email containing i
 nformation about joining the webinar.
CLASS:PUBLIC
END:VEVENT
END:VCALENDAR
