BEGIN:VCALENDAR
PRODID:-//AT Content Types//AT Event//EN
VERSION:2.0
METHOD:PUBLISH
BEGIN:VEVENT
DTSTAMP:20260423T201258Z
CREATED:20210331T095013Z
UID:ATEvent-61e407fa0f194271b2c1a12efe493e67
LAST-MODIFIED:20210527T085502Z
SUMMARY:2030 Market Design Webinar
DTSTART:20210610T073000Z
DTEND:20210610T103000Z
DESCRIPTION:We plan to present to stakeholders the main results of the
  public consultation\, focussing on the most commented topics\, during
  a market design webinar 10 June 2021
CLASS:PUBLIC
END:VEVENT
END:VCALENDAR
