BEGIN:VCALENDAR
PRODID:-//AT Content Types//AT Event//EN
VERSION:2.0
METHOD:PUBLISH
BEGIN:VEVENT
DTSTAMP:20260423T202044Z
CREATED:20240930T104425Z
UID:ATEvent-f70784c9081c42f0b5e5b4eb23744288
LAST-MODIFIED:20241015T094156Z
SUMMARY:MCSC Webinar on the Informal Survey of Co-optimisation
DTSTART:20241011T110000Z
DTEND:20241011T130000Z
DESCRIPTION:Dear Market Participants,\n\nOn behalf of TSOs and NEMOs y
 ou are invited to a webinar. In this session\, we will guide you throu
 gh the questions of an informal survey designed to gather Market Parti
 cipants’ input relevant to bidding formats for the co-optimised ener
 gy and balancing capacity products for the Single Day-Ahead Market.\n\
 nPlease register using this link:\nhttps://attendee.gotowebinar.com/re
 gister/2449878375229083742\n\nWe appreciate your participation. \nMark
 et Coupling Steering Committee (MCSC)
CLASS:PUBLIC
END:VEVENT
END:VCALENDAR
