BEGIN:VCALENDAR
PRODID:-//AT Content Types//AT Event//EN
VERSION:2.0
METHOD:PUBLISH
BEGIN:VEVENT
DTSTAMP:20260420T013818Z
CREATED:20200316T170432Z
UID:ATEvent-b8109a4843924107a6ce52ddf736b4d2
LAST-MODIFIED:20200701T152737Z
SUMMARY:Stakeholder webinar on the TSOs' proposal for the methodology on the use of congestion income
DTSTART:20200415T080000Z
DTEND:20200415T110000Z
DESCRIPTION:At the webinar\, TSOs will present the proposed methodolog
 y which aims at setting guidance on the use of congestion income\, exp
 lain the rationale for such a proposal\, and outline the next steps. \
 nStakeholders will have the opportunity to exchange views and discuss 
 key questions with the drafting team.\nThe link to register can be fou
 nd above in the "overview" part.
CLASS:PUBLIC
END:VEVENT
END:VCALENDAR
